BEGIN:VCALENDAR
VERSION:2.0
PRODID:-//rooster/egg//NONSGML v1.0//EN
BEGIN:VTIMEZONE
TZID:Pacific/Auckland
TZURL:http://tzurl.org/zoneinfo-outlook/Pacific/Auckland
X-LIC-LOCATION:Pacific/Auckland
BEGIN:DAYLIGHT
TZOFFSETFROM:+1200
TZOFFSETTO:+1300
TZNAME:NZDT
DTSTART:19700927T020000
RRULE:FREQ=YEARLY;BYMONTH=9;BYDAY=-1SU
END:DAYLIGHT
BEGIN:STANDARD
TZOFFSETFROM:+1300
TZOFFSETTO:+1200
TZNAME:NZST
DTSTART:19700405T030000
RRULE:FREQ=YEARLY;BYMONTH=4;BYDAY=1SU
END:STANDARD
END:VTIMEZONE
BEGIN:VEVENT
ORGANIZER:Bookings Team:mailto:info@suresafety.co.nz
DTSTART:20260202T073000
DTEND:20260202T153000
LOCATION:Classic Flyers, 9 Jean Batten Drive, Mount Maunganui
SEQUENCE:0
UID:802da612155b8a01f9208e1d982cfd20suresafety.co.nz
DTSTAMP:20260422T161450Z
DESCRIPTION:PLEASE ARRIVE AT THE TIME SPECIFIED ABOVE. END TIMES ARE APPROXIMATE.\nCheck your own booking details carefully.  You may or may not be enrolled for all options in this course. - info@suresafety.co.nz - https://book.suresafety.co.nz/event?id=2548
SUMMARY:Use Height Safety Equipment in the Workplace with Legislation
END:VEVENT
END:VCALENDAR